BEGIN:VCALENDAR
VERSION:2.0
PRODID:-//Lichtbaken Hoorn - ECPv6.2.1//NONSGML v1.0//EN
CALSCALE:GREGORIAN
METHOD:PUBLISH
X-WR-CALNAME:Lichtbaken Hoorn
X-ORIGINAL-URL:https://staging.hetlichtbakenhoorn.nl
X-WR-CALDESC:Evenementen voor Lichtbaken Hoorn
REFRESH-INTERVAL;VALUE=DURATION:PT1H
X-Robots-Tag:noindex
X-PUBLISHED-TTL:PT1H
BEGIN:VTIMEZONE
TZID:Europe/Amsterdam
BEGIN:DAYLIGHT
TZOFFSETFROM:+0100
TZOFFSETTO:+0200
TZNAME:CEST
DTSTART:20210328T010000
END:DAYLIGHT
BEGIN:STANDARD
TZOFFSETFROM:+0200
TZOFFSETTO:+0100
TZNAME:CET
DTSTART:20211031T010000
END:STANDARD
BEGIN:DAYLIGHT
TZOFFSETFROM:+0100
TZOFFSETTO:+0200
TZNAME:CEST
DTSTART:20220327T010000
END:DAYLIGHT
BEGIN:STANDARD
TZOFFSETFROM:+0200
TZOFFSETTO:+0100
TZNAME:CET
DTSTART:20221030T010000
END:STANDARD
BEGIN:DAYLIGHT
TZOFFSETFROM:+0100
TZOFFSETTO:+0200
TZNAME:CEST
DTSTART:20230326T010000
END:DAYLIGHT
BEGIN:STANDARD
TZOFFSETFROM:+0200
TZOFFSETTO:+0100
TZNAME:CET
DTSTART:20231029T010000
END:STANDARD
END:VTIMEZONE
BEGIN:VEVENT
DTSTART;TZID=Europe/Amsterdam:20230919T080000
DTEND;TZID=Europe/Amsterdam:20230919T170000
DTSTAMP:20260420T094717
CREATED:20230914T122347Z
LAST-MODIFIED:20230914T122347Z
UID:2044-1695110400-1695142800@staging.hetlichtbakenhoorn.nl
SUMMARY:Gebedsuur
DESCRIPTION:tekst
URL:https://staging.hetlichtbakenhoorn.nl/agenda-punt/gebedsuur/
LOCATION:Kapel Dijk en Duin\, Wilhelminalaan 2\, Hoorn\, 1623 MA\, Nederland
END:VEVENT
BEGIN:VEVENT
DTSTART;TZID=Europe/Amsterdam:20230916T100000
DTEND;TZID=Europe/Amsterdam:20230916T113000
DTSTAMP:20260420T094717
CREATED:20230914T122228Z
LAST-MODIFIED:20230914T122228Z
UID:2042-1694858400-1694863800@staging.hetlichtbakenhoorn.nl
SUMMARY:Kerkdienst
DESCRIPTION:tekst
URL:https://staging.hetlichtbakenhoorn.nl/agenda-punt/kerkdienst/
LOCATION:Het Lichtbaken\, Maelsonstraat 6\, Hoorn\, 1624 NP\, Nederland
END:VEVENT
BEGIN:VEVENT
DTSTART;TZID=Europe/Amsterdam:20211128T103000
DTEND;TZID=Europe/Amsterdam:20211128T120000
DTSTAMP:20260420T094717
CREATED:20211127T134945Z
LAST-MODIFIED:20211127T135108Z
UID:1729-1638095400-1638100800@staging.hetlichtbakenhoorn.nl
SUMMARY:Zondagmorgen 18 november is er géén samenkomst - alleen een online uitzending
DESCRIPTION:Doordat een persoon in mijn directe omgeving positief getest werd\, is quarantaine nodig. Binnenkort wordt ik zelf getest en weet ik of ik mij weer vrij kan bewegen. Daarom is het helaas niet mogelijk om op zondagmorgen in de samenkomst voor te gaan.\nEr zal wel een uitzending via ons YouTubekanaal zijn. De aanvang is om 10.30 uur.\nJe wordt hartelijk uitgenodigd om mee te kijken.\nLukt het niet om de uitzending te vinden\, stuur dan een appje naar 06-22818520 of een email naar info@hetlichtbakenhoorn.nl \nVriendelijke groet\, Albert van Bragt
URL:https://staging.hetlichtbakenhoorn.nl/agenda-punt/zondagmorgen-18-november-is-er-geen-samenkomst-alleen-een-online-uitzending/
LOCATION:Online meeluisteren/-kijken
END:VEVENT
BEGIN:VEVENT
DTSTART;TZID=Europe/Amsterdam:20210819T100000
DTEND;TZID=Europe/Amsterdam:20210819T120000
DTSTAMP:20260420T094717
CREATED:20210810T082021Z
LAST-MODIFIED:20210810T082052Z
UID:1686-1629367200-1629374400@staging.hetlichtbakenhoorn.nl
SUMMARY:Open Koffieochtenden tijdens zomermaanden
DESCRIPTION:Ook in de zomermaanden worden er koffieochtenden gehouden in Het Lichtbaken. Donderdag 19 augustus kan iedereen weer terecht voor een prettig moment en een heerlijke kop koffie of thee. Gratis\, zoals gebruikelijk. De groep bezoekers groeit gestaag en het wordt steeds gezelliger. De mensen van Het Lichtbaken zien er naar uit u te ontmoeten. \nDe inloop op donderdag is vanaf 10.00 uur. De ontmoeting duurt tot ca. 12.00 uur en wordt afgesloten met een boodschap uit de bijbel. Iedereen ongeacht zijn of haar achtergrond is hartelijk welkom. Het adres is Maelsonstraat 6. Zie ook de Facebookpagina: Facebook Het Lichtbaken Hoorn.
URL:https://staging.hetlichtbakenhoorn.nl/agenda-punt/open-koffieochtenden-tijdens-zomermaanden/
LOCATION:Het Lichtbaken\, Maelsonstraat 6\, Hoorn\, 1624 NP\, Nederland
ATTACH;FMTTYPE=image/jpeg:https://staging.hetlichtbakenhoorn.nl/wp-content/uploads/2021/08/koffieochtend-bl-kop-19-aug-2021-lght-scaled.jpg
END:VEVENT
BEGIN:VEVENT
DTSTART;TZID=Europe/Amsterdam:20210530T103000
DTEND;TZID=Europe/Amsterdam:20210530T120000
DTSTAMP:20260420T094717
CREATED:20210518T074808Z
LAST-MODIFIED:20210518T074808Z
UID:1678-1622370600-1622376000@staging.hetlichtbakenhoorn.nl
SUMMARY:Zondagmorgen 30 mei 2021 – Voorganger is ds. Evert Meijer\, aanvang 10.30 u.
DESCRIPTION:
URL:https://staging.hetlichtbakenhoorn.nl/agenda-punt/zondagmorgen-30-mei-2021-voorganger-is-ds-evert-meijer-aanvang-10-30-u/
LOCATION:Het Lichtbaken\, Maelsonstraat 6\, Hoorn\, 1624 NP\, Nederland
END:VEVENT
BEGIN:VEVENT
DTSTART;TZID=Europe/Amsterdam:20210523T103000
DTEND;TZID=Europe/Amsterdam:20210523T120000
DTSTAMP:20260420T094717
CREATED:20210518T073047Z
LAST-MODIFIED:20210518T074423Z
UID:1668-1621765800-1621771200@staging.hetlichtbakenhoorn.nl
SUMMARY:Zondagmorgen 23 mei 2021 Pinksteren – Voorganger is ds. J. Geene\, aanvang 10.30 u.
DESCRIPTION:Pinksteren\nOp zondag 23 mei komen we opnieuw bij elkaar voor een ontmoeting als gemeente. Daarbij houden we ons aan de regels en adviezen van het RIVM. Het betekent dat we met maximaal 30 personen bij elkaar komen.\nAls u de samenkomst wilt bezoeken\, meld dat even s.v.p. Dat mag per e-mail via hetlichtbakenhoorn via Whatsapp\, sms of telefonisch 06-22818520.\nHartelijk welkom.
URL:https://staging.hetlichtbakenhoorn.nl/agenda-punt/zondagmorgen-23-mei-2021-pinksteren-voorganger-is-ds-j-geene-aanvang-10-30-u/
LOCATION:Het Lichtbaken\, Maelsonstraat 6\, Hoorn\, 1624 NP\, Nederland
END:VEVENT
BEGIN:VEVENT
DTSTART;TZID=Europe/Amsterdam:20210520T100000
DTEND;TZID=Europe/Amsterdam:20210520T120000
DTSTAMP:20260420T094717
CREATED:20210518T072848Z
LAST-MODIFIED:20210518T074531Z
UID:1666-1621504800-1621512000@staging.hetlichtbakenhoorn.nl
SUMMARY:Open Koffieochtend op donderdag 20 mei - aanvang 10.00 uur
DESCRIPTION:Op elke derde donderdagmorgen van de maand wordt er in Het Lichtbaken een Open Koffieochtend gehouden. Iedereen is daar hartelijk welkom voor een kop koffie/thee en gezelligheid. Er is alle gelegenheid voor ontmoeting en gesprek of om uw persoonlijke vragen te stellen. De inloop is vanaf 10.00 uur. De ontmoeting duurt tot ca. 12.00 uur. De ochtend wordt afgesloten met een boodschap uit de Bijbel. Iedereen ongeacht zijn of haar achtergrond is hartelijk welkom. Meld je vooraf even aan per email info@hetlichtbakenhoorn.nl of telefonisch/per appje via 06-22818520.\nHet adres is Maelsonstraat 6.
URL:https://staging.hetlichtbakenhoorn.nl/agenda-punt/open-koffieochtend/
LOCATION:Het Lichtbaken\, Maelsonstraat 6\, Hoorn\, 1624 NP\, Nederland
END:VEVENT
BEGIN:VEVENT
DTSTART;TZID=Europe/Amsterdam:20210519T193000
DTEND;TZID=Europe/Amsterdam:20210519T213000
DTSTAMP:20260420T094717
CREATED:20210518T073354Z
LAST-MODIFIED:20210518T073354Z
UID:1670-1621452600-1621459800@staging.hetlichtbakenhoorn.nl
SUMMARY:Bijbelavond over het hoofdstuk Hebreeën 11 - Welkom! 19.30 - 21.30 uur
DESCRIPTION:Probeer dit hoofdstuk vooraf goed door te lezen. Geef zo mogelijk ook even door of je erbij wilt zijn\, per email naar info@hetlichtbakenhoorn.nl of via een appje naar 06-22818520. Alvast dank.
URL:https://staging.hetlichtbakenhoorn.nl/agenda-punt/bijbelavond-over-het-hoofdstuk-hebreeen-11-welkom-19-30-21-30-uur/
LOCATION:Het Lichtbaken\, Maelsonstraat 6\, Hoorn\, 1624 NP\, Nederland
END:VEVENT
END:VCALENDAR